BEGIN:VCALENDAR
VERSION:2.0
PRODID:-//Morra Mia - ECPv6.15.20//NONSGML v1.0//EN
CALSCALE:GREGORIAN
METHOD:PUBLISH
X-WR-CALNAME:Morra Mia
X-ORIGINAL-URL:https://www.morramia.com
X-WR-CALDESC:Events for Morra Mia
REFRESH-INTERVAL;VALUE=DURATION:PT1H
X-Robots-Tag:noindex
X-PUBLISHED-TTL:PT1H
BEGIN:VTIMEZONE
TZID:America/Ciudad_Juarez
BEGIN:DAYLIGHT
TZOFFSETFROM:-0700
TZOFFSETTO:-0600
TZNAME:MDT
DTSTART:20240310T090000
END:DAYLIGHT
BEGIN:STANDARD
TZOFFSETFROM:-0600
TZOFFSETTO:-0700
TZNAME:MST
DTSTART:20241103T080000
END:STANDARD
BEGIN:DAYLIGHT
TZOFFSETFROM:-0700
TZOFFSETTO:-0600
TZNAME:MDT
DTSTART:20250309T090000
END:DAYLIGHT
BEGIN:STANDARD
TZOFFSETFROM:-0600
TZOFFSETTO:-0700
TZNAME:MST
DTSTART:20251102T080000
END:STANDARD
BEGIN:DAYLIGHT
TZOFFSETFROM:-0700
TZOFFSETTO:-0600
TZNAME:MDT
DTSTART:20260308T090000
END:DAYLIGHT
BEGIN:STANDARD
TZOFFSETFROM:-0600
TZOFFSETTO:-0700
TZNAME:MST
DTSTART:20261101T080000
END:STANDARD
END:VTIMEZONE
BEGIN:VEVENT
DTSTART;VALUE=DATE:20250430
DTEND;VALUE=DATE:20250501
DTSTAMP:20260422T043708
CREATED:20250430T182929Z
LAST-MODIFIED:20250430T182929Z
UID:10000001-1745971200-1746057599@www.morramia.com
SUMMARY:Dia Del Niño
DESCRIPTION:
URL:https://www.morramia.com/event/dia-del-nino/
LOCATION:Morra Mia – Montwood\, 11250 Montwood Dr.\, El Paso\, Texas\, 79936\, United States
ORGANIZER;CN="Morra Mia":MAILTO:info@morramia.com
END:VEVENT
BEGIN:VEVENT
DTSTART;VALUE=DATE:20250510
DTEND;VALUE=DATE:20250511
DTSTAMP:20260422T043708
CREATED:20250506T234332Z
LAST-MODIFIED:20250506T234332Z
UID:10000002-1746835200-1746921599@www.morramia.com
SUMMARY:Feliz Dia de Las Madres
DESCRIPTION:
URL:https://www.morramia.com/event/feliz-dia-de-las-madres/
LOCATION:Morra Mia – Montwood\, 11250 Montwood Dr.\, El Paso\, Texas\, 79936\, United States
ORGANIZER;CN="Morra Mia":MAILTO:info@morramia.com
END:VEVENT
BEGIN:VEVENT
DTSTART;VALUE=DATE:20250511
DTEND;VALUE=DATE:20250512
DTSTAMP:20260422T043708
CREATED:20250506T234423Z
LAST-MODIFIED:20250506T234423Z
UID:10000003-1746921600-1747007999@www.morramia.com
SUMMARY:Happy Mothers Day
DESCRIPTION:
URL:https://www.morramia.com/event/happy-mothers-day/
LOCATION:Texas
ORGANIZER;CN="Morra Mia":MAILTO:info@morramia.com
END:VEVENT
BEGIN:VEVENT
DTSTART;TZID=America/Ciudad_Juarez:20250529T190000
DTEND;TZID=America/Ciudad_Juarez:20250529T220000
DTSTAMP:20260422T043708
CREATED:20250513T223819Z
LAST-MODIFIED:20250514T000326Z
UID:10000066-1748545200-1748556000@www.morramia.com
SUMMARY:Jueves de Despecho
DESCRIPTION:
URL:https://www.morramia.com/event/jueves-de-despecho-2/
LOCATION:Morra Mia – Montwood\, 11250 Montwood Dr.\, El Paso\, Texas\, 79936\, United States
ATTACH;FMTTYPE=image/jpeg:https://www.morramia.com/wp-content/uploads/2025/05/6cf39eb4-d9b4-433d-9e03-ff6dafb13281.jpg
ORGANIZER;CN="Morra Mia":MAILTO:info@morramia.com
END:VEVENT
END:VCALENDAR